Package: igvShiny Version: 1.0.5 Command: /Library/Frameworks/R.framework/Resources/bin/R CMD build --keep-empty-dirs --no-resave-data igvShiny StartedAt: 2024-10-16 20:07:54 -0400 (Wed, 16 Oct 2024) EndedAt: 2024-10-16 20:08:44 -0400 (Wed, 16 Oct 2024) EllapsedTime: 50.2 seconds RetCode: 0 Status: OK PackageFile: igvShiny_1.0.5.tar.gz PackageFileSize: 4.22 MiB