Package: igvShiny Version: 1.0.5 Command: rm -rf igvShiny.buildbin-libdir && mkdir igvShiny.buildbin-libdir && /Users/biocbuild/BBS/utils/build-universal.sh igvShiny_1.0.5.tar.gz /Library/Frameworks/R.framework/Resources/bin/R igvShiny.buildbin-libdir StartedAt: 2024-10-17 16:23:15 -0400 (Thu, 17 Oct 2024) EndedAt: 2024-10-17 16:23:50 -0400 (Thu, 17 Oct 2024) EllapsedTime: 35.1 seconds RetCode: 0 Status: OK PackageFile: igvShiny_1.0.5.tgz PackageFileSize: 4.301 MiB