Package: igvR Version: 1.24.0 Command: chmod a+r igvR -R && E:\biocbuild\bbs-3.19-bioc\R\bin\R.exe CMD build --keep-empty-dirs --no-resave-data igvR StartedAt: 2024-10-16 19:46:51 -0400 (Wed, 16 Oct 2024) EndedAt: 2024-10-16 19:50:08 -0400 (Wed, 16 Oct 2024) EllapsedTime: 196.9 seconds RetCode: 0 Status: OK PackageFile: igvR_1.24.0.tar.gz PackageFileSize: 8.592 MiB