Package: igvR Version: 1.24.0 Command: rm -rf igvR.buildbin-libdir && mkdir igvR.buildbin-libdir && E:\biocbuild\bbs-3.19-bioc\R\bin\R.exe CMD INSTALL --build --library=igvR.buildbin-libdir igvR_1.24.0.tar.gz StartedAt: 2024-10-17 07:58:57 -0400 (Thu, 17 Oct 2024) EndedAt: 2024-10-17 08:00:11 -0400 (Thu, 17 Oct 2024) EllapsedTime: 73.7 seconds RetCode: 0 Status: OK PackageFile: igvR_1.24.0.zip PackageFileSize: 6.39 MiB