Package: igvR Version: 1.24.0 Command: /Library/Frameworks/R.framework/Resources/bin/R CMD build --keep-empty-dirs --no-resave-data igvR StartedAt: 2024-10-16 20:07:49 -0400 (Wed, 16 Oct 2024) EndedAt: 2024-10-16 20:10:13 -0400 (Wed, 16 Oct 2024) EllapsedTime: 144.0 seconds RetCode: 0 Status: OK PackageFile: igvR_1.24.0.tar.gz PackageFileSize: 8.592 MiB