Package: igvR Version: 1.24.0 Command: /home/biocbuild/R/R-beta-2024-04-15_r86425/bin/R CMD build --keep-empty-dirs --no-resave-data igvR StartedAt: 2024-05-09 01:03:04 -0000 (Thu, 09 May 2024) EndedAt: 2024-05-09 01:04:11 -0000 (Thu, 09 May 2024) EllapsedTime: 67.1 seconds RetCode: 0 Status: OK PackageFile: igvR_1.24.0.tar.gz PackageFileSize: 8.78 MiB