Package: igvR Version: 1.24.0 Command: /Library/Frameworks/R.framework/Resources/bin/R CMD build --keep-empty-dirs --no-resave-data igvR StartedAt: 2024-10-17 02:38:54 -0400 (Thu, 17 Oct 2024) EndedAt: 2024-10-17 02:40:07 -0400 (Thu, 17 Oct 2024) EllapsedTime: 73.4 seconds RetCode: 0 Status: OK PackageFile: igvR_1.24.0.tar.gz PackageFileSize: 8.593 MiB