Package: idr2d Version: 1.18.0 Command: chmod a+r idr2d -R && E:\biocbuild\bbs-3.19-bioc\R\bin\R.exe CMD build --keep-empty-dirs --no-resave-data idr2d StartedAt: 2024-10-16 19:46:30 -0400 (Wed, 16 Oct 2024) EndedAt: 2024-10-16 19:47:14 -0400 (Wed, 16 Oct 2024) EllapsedTime: 44.5 seconds RetCode: 0 Status: OK PackageFile: idr2d_1.18.0.tar.gz PackageFileSize: 1.217 MiB