Package: idr2d Version: 1.18.0 Command: rm -rf idr2d.buildbin-libdir && mkdir idr2d.buildbin-libdir && E:\biocbuild\bbs-3.19-bioc\R\bin\R.exe CMD INSTALL --build --library=idr2d.buildbin-libdir idr2d_1.18.0.tar.gz StartedAt: 2024-10-17 07:58:51 -0400 (Thu, 17 Oct 2024) EndedAt: 2024-10-17 07:59:25 -0400 (Thu, 17 Oct 2024) EllapsedTime: 33.6 seconds RetCode: 0 Status: OK PackageFile: idr2d_1.18.0.zip PackageFileSize: 1.354 MiB