Package: idr2d Version: 1.18.0 Command: /Library/Frameworks/R.framework/Resources/bin/R CMD build --keep-empty-dirs --no-resave-data idr2d StartedAt: 2024-10-16 20:07:17 -0400 (Wed, 16 Oct 2024) EndedAt: 2024-10-16 20:08:43 -0400 (Wed, 16 Oct 2024) EllapsedTime: 85.5 seconds RetCode: 0 Status: OK PackageFile: idr2d_1.18.0.tar.gz PackageFileSize: 1.638 MiB