Package: idr2d Version: 1.18.0 Command: /home/biocbuild/R/R-beta-2024-04-15_r86425/bin/R CMD INSTALL idr2d StartedAt: 2024-05-08 20:17:03 -0000 (Wed, 08 May 2024) EndedAt: 2024-05-08 20:17:29 -0000 (Wed, 08 May 2024) EllapsedTime: 25.1 seconds RetCode: 0 Status: OK