Package: idr2d Version: 1.18.0 Command: /home/biocbuild/R/R-beta-2024-04-15_r86425/bin/R CMD check --install=check:idr2d.install-out.txt --library=/home/biocbuild/R/R-beta-2024-04-15_r86425/site-library --no-vignettes --timings idr2d_1.18.0.tar.gz StartedAt: 2024-05-09 08:29:41 -0000 (Thu, 09 May 2024) EndedAt: 2024-05-09 08:34:00 -0000 (Thu, 09 May 2024) EllapsedTime: 259.5 seconds RetCode: 0 Status: OK CheckDir: idr2d.Rcheck Warnings: 0