Package: idr2d Version: 1.18.0 Command: /home/biocbuild/R/R-beta-2024-04-15_r86425/bin/R CMD build --keep-empty-dirs --no-resave-data idr2d StartedAt: 2024-05-09 01:02:31 -0000 (Thu, 09 May 2024) EndedAt: 2024-05-09 01:03:18 -0000 (Thu, 09 May 2024) EllapsedTime: 47.1 seconds RetCode: 0 Status: OK PackageFile: idr2d_1.18.0.tar.gz PackageFileSize: 1.343 MiB