Package: idr2d Version: 1.18.0 Command: /Library/Frameworks/R.framework/Resources/bin/R CMD INSTALL idr2d StartedAt: 2024-10-16 16:20:33 -0400 (Wed, 16 Oct 2024) EndedAt: 2024-10-16 16:20:51 -0400 (Wed, 16 Oct 2024) EllapsedTime: 18.3 seconds RetCode: 0 Status: OK