Package: idpr Version: 1.14.0 Command: rm -rf idpr.buildbin-libdir && mkdir idpr.buildbin-libdir && E:\biocbuild\bbs-3.19-bioc\R\bin\R.exe CMD INSTALL --build --library=idpr.buildbin-libdir idpr_1.14.0.tar.gz StartedAt: 2024-10-17 07:58:50 -0400 (Thu, 17 Oct 2024) EndedAt: 2024-10-17 07:59:07 -0400 (Thu, 17 Oct 2024) EllapsedTime: 17.2 seconds RetCode: 0 Status: OK PackageFile: idpr_1.14.0.zip PackageFileSize: 1.12 MiB