Package: idpr Version: 1.14.0 Command: /Library/Frameworks/R.framework/Resources/bin/R CMD build --keep-empty-dirs --no-resave-data idpr StartedAt: 2024-10-17 02:37:02 -0400 (Thu, 17 Oct 2024) EndedAt: 2024-10-17 02:38:05 -0400 (Thu, 17 Oct 2024) EllapsedTime: 63.0 seconds RetCode: 0 Status: OK PackageFile: idpr_1.14.0.tar.gz PackageFileSize: 3.612 MiB