Package: idiogram Version: 1.80.0 Command: E:\biocbuild\bbs-3.19-bioc\R\bin\R.exe CMD INSTALL idiogram StartedAt: 2024-10-16 16:18:26 -0400 (Wed, 16 Oct 2024) EndedAt: 2024-10-16 16:18:48 -0400 (Wed, 16 Oct 2024) EllapsedTime: 22.6 seconds RetCode: 0 Status: OK