Package: idiogram Version: 1.80.0 Command: /Library/Frameworks/R.framework/Resources/bin/R CMD INSTALL idiogram StartedAt: 2024-10-16 15:31:58 -0400 (Wed, 16 Oct 2024) EndedAt: 2024-10-16 15:32:37 -0400 (Wed, 16 Oct 2024) EllapsedTime: 38.7 seconds RetCode: 0 Status: OK