Package: idiogram Version: 1.80.0 Command: /Library/Frameworks/R.framework/Resources/bin/R CMD INSTALL idiogram StartedAt: 2024-06-09 15:11:16 -0400 (Sun, 09 Jun 2024) EndedAt: 2024-06-09 15:11:40 -0400 (Sun, 09 Jun 2024) EllapsedTime: 23.4 seconds RetCode: 0 Status: OK