Package: idiogram Version: 1.80.0 Maintainer: Karl J. Dykema MaintainerEmail: karl.dykema at vai.org git_url: https://git.bioconductor.org/packages/idiogram git_branch: RELEASE_3_19 git_last_commit: 9563582 git_last_commit_date: 2024-04-30 10:13:59 -0400 (Tue, 30 Apr 2024)