Package: ideal Version: 1.28.0 Command: E:\biocbuild\bbs-3.19-bioc\R\bin\R.exe CMD INSTALL ideal StartedAt: 2024-10-16 17:10:45 -0400 (Wed, 16 Oct 2024) EndedAt: 2024-10-16 17:11:53 -0400 (Wed, 16 Oct 2024) EllapsedTime: 68.4 seconds RetCode: 0 Status: OK