Package: ideal Version: 1.28.0 Command: rm -rf ideal.buildbin-libdir && mkdir ideal.buildbin-libdir && E:\biocbuild\bbs-3.19-bioc\R\bin\R.exe CMD INSTALL --build --library=ideal.buildbin-libdir ideal_1.28.0.tar.gz StartedAt: 2024-10-17 07:58:45 -0400 (Thu, 17 Oct 2024) EndedAt: 2024-10-17 07:59:59 -0400 (Thu, 17 Oct 2024) EllapsedTime: 73.3 seconds RetCode: 0 Status: OK PackageFile: ideal_1.28.0.zip PackageFileSize: 2.649 MiB