Package: ideal Version: 1.28.0 Command: F:\biocbuild\bbs-3.19-bioc\R\bin\R.exe CMD check --no-multiarch --install=check:ideal.install-out.txt --library=F:\biocbuild\bbs-3.19-bioc\R\library --no-vignettes --timings ideal_1.28.0.tar.gz StartedAt: 2024-06-27 02:42:27 -0400 (Thu, 27 Jun 2024) EndedAt: 2024-06-27 02:50:44 -0400 (Thu, 27 Jun 2024) EllapsedTime: 497.8 seconds RetCode: 0 Status: OK CheckDir: ideal.Rcheck Warnings: 0