Package: ideal Version: 1.28.0 Command: /Library/Frameworks/R.framework/Resources/bin/R CMD INSTALL ideal StartedAt: 2024-10-16 16:35:18 -0400 (Wed, 16 Oct 2024) EndedAt: 2024-10-16 16:37:24 -0400 (Wed, 16 Oct 2024) EllapsedTime: 126.1 seconds RetCode: 0 Status: OK