Package: ideal Version: 1.28.0 Command: /Library/Frameworks/R.framework/Resources/bin/R CMD build --keep-empty-dirs --no-resave-data ideal StartedAt: 2024-10-16 20:06:42 -0400 (Wed, 16 Oct 2024) EndedAt: 2024-10-16 20:13:21 -0400 (Wed, 16 Oct 2024) EllapsedTime: 398.6 seconds RetCode: 0 Status: OK PackageFile: ideal_1.28.0.tar.gz PackageFileSize: 3.211 MiB