Package: ideal Version: 1.28.0 Command: /home/biocbuild/R/R-beta-2024-04-15_r86425/bin/R CMD INSTALL ideal StartedAt: 2024-05-08 20:58:16 -0000 (Wed, 08 May 2024) EndedAt: 2024-05-08 20:58:18 -0000 (Wed, 08 May 2024) EllapsedTime: 1.4 seconds RetCode: 1 Status: ERROR