Package: ideal Version: 1.28.0 Command: /Library/Frameworks/R.framework/Resources/bin/R CMD check --install=check:ideal.install-out.txt --library=/Library/Frameworks/R.framework/Resources/library --no-vignettes --timings ideal_1.28.0.tar.gz StartedAt: 2024-06-10 18:55:59 -0400 (Mon, 10 Jun 2024) EndedAt: 2024-06-10 19:09:57 -0400 (Mon, 10 Jun 2024) EllapsedTime: 838.4 seconds RetCode: 0 Status: OK CheckDir: ideal.Rcheck Warnings: 0