Package: ideal Version: 1.28.0 Command: /Library/Frameworks/R.framework/Resources/bin/R CMD build --keep-empty-dirs --no-resave-data ideal StartedAt: 2024-10-17 02:36:06 -0400 (Thu, 17 Oct 2024) EndedAt: 2024-10-17 02:39:20 -0400 (Thu, 17 Oct 2024) EllapsedTime: 194.2 seconds RetCode: 0 Status: OK PackageFile: ideal_1.28.0.tar.gz PackageFileSize: 3.223 MiB