Package: ideal Version: 1.28.0 Command: rm -rf ideal.buildbin-libdir && mkdir ideal.buildbin-libdir && /Users/biocbuild/BBS/utils/build-universal.sh ideal_1.28.0.tar.gz /Library/Frameworks/R.framework/Resources/bin/R ideal.buildbin-libdir StartedAt: 2024-10-18 18:58:05 -0400 (Fri, 18 Oct 2024) EndedAt: 2024-10-18 18:59:27 -0400 (Fri, 18 Oct 2024) EllapsedTime: 82.2 seconds RetCode: 0 Status: OK PackageFile: ideal_1.28.0.tgz PackageFileSize: 3.013 MiB