Package: icetea Version: 1.22.0 Command: set _R_CHECK_FORCE_SUGGESTS_=0&& E:\biocbuild\bbs-3.19-bioc\R\bin\R.exe CMD check --no-multiarch --install=check:icetea.install-out.txt --library=E:\biocbuild\bbs-3.19-bioc\R\library --no-vignettes --timings icetea_1.22.0.tar.gz StartedAt: 2024-10-17 02:26:42 -0400 (Thu, 17 Oct 2024) EndedAt: 2024-10-17 02:35:06 -0400 (Thu, 17 Oct 2024) EllapsedTime: 504.3 seconds RetCode: 0 Status: WARNINGS CheckDir: icetea.Rcheck Warnings: 1