Package: icetea Version: 1.22.0 Command: rm -rf icetea.buildbin-libdir && mkdir icetea.buildbin-libdir && /Users/biocbuild/BBS/utils/build-universal.sh icetea_1.22.0.tar.gz /Library/Frameworks/R.framework/Resources/bin/R icetea.buildbin-libdir StartedAt: 2024-10-17 16:22:45 -0400 (Thu, 17 Oct 2024) EndedAt: 2024-10-17 16:24:46 -0400 (Thu, 17 Oct 2024) EllapsedTime: 120.9 seconds RetCode: 0 Status: OK PackageFile: icetea_1.22.0.tgz PackageFileSize: 1.112 MiB