Package: icetea Version: 1.22.0 Command: /Library/Frameworks/R.framework/Resources/bin/R CMD INSTALL icetea StartedAt: 2024-10-16 16:52:14 -0400 (Wed, 16 Oct 2024) EndedAt: 2024-10-16 16:53:15 -0400 (Wed, 16 Oct 2024) EllapsedTime: 60.4 seconds RetCode: 0 Status: OK