Package: icetea Version: 1.22.0 Command: /Library/Frameworks/R.framework/Resources/bin/R CMD check --install=check:icetea.install-out.txt --library=/Library/Frameworks/R.framework/Resources/library --no-vignettes --timings icetea_1.22.0.tar.gz StartedAt: 2024-10-18 00:52:08 -0400 (Fri, 18 Oct 2024) EndedAt: 2024-10-18 01:00:08 -0400 (Fri, 18 Oct 2024) EllapsedTime: 479.3 seconds RetCode: 0 Status: WARNINGS CheckDir: icetea.Rcheck Warnings: 1