Package: icetea Version: 1.22.0 Command: /Library/Frameworks/R.framework/Resources/bin/R CMD build --keep-empty-dirs --no-resave-data icetea StartedAt: 2024-10-17 02:33:40 -0400 (Thu, 17 Oct 2024) EndedAt: 2024-10-17 02:35:53 -0400 (Thu, 17 Oct 2024) EllapsedTime: 133.5 seconds RetCode: 0 Status: OK PackageFile: icetea_1.22.0.tar.gz PackageFileSize: 795.8 KiB