Package: icetea Version: 1.22.0 Command: rm -rf icetea.buildbin-libdir && mkdir icetea.buildbin-libdir && /Users/biocbuild/BBS/utils/build-universal.sh icetea_1.22.0.tar.gz /Library/Frameworks/R.framework/Resources/bin/R icetea.buildbin-libdir StartedAt: 2024-10-18 18:57:49 -0400 (Fri, 18 Oct 2024) EndedAt: 2024-10-18 18:59:02 -0400 (Fri, 18 Oct 2024) EllapsedTime: 73.1 seconds RetCode: 0 Status: OK PackageFile: icetea_1.22.0.tgz PackageFileSize: 1.113 MiB