Package: ibh Version: 1.52.0 Command: /Library/Frameworks/R.framework/Resources/bin/R CMD build --keep-empty-dirs --no-resave-data ibh StartedAt: 2024-10-17 02:33:06 -0400 (Thu, 17 Oct 2024) EndedAt: 2024-10-17 02:33:17 -0400 (Thu, 17 Oct 2024) EllapsedTime: 11.4 seconds RetCode: 0 Status: OK PackageFile: ibh_1.52.0.tar.gz PackageFileSize: 127.3 KiB