Package: ibh Version: 1.52.0 Maintainer: Kircicegi Korkmaz MaintainerEmail: e102771 at ceng.metu.edu.tr git_url: https://git.bioconductor.org/packages/ibh git_branch: RELEASE_3_19 git_last_commit: bc1c8c4 git_last_commit_date: 2024-04-30 10:23:50 -0400 (Tue, 30 Apr 2024)