Package: iSeq Version: 1.56.0 Command: E:\biocbuild\bbs-3.19-bioc\R\bin\R.exe CMD check --no-multiarch --install=check:iSeq.install-out.txt --library=E:\biocbuild\bbs-3.19-bioc\R\library --no-vignettes --timings iSeq_1.56.0.tar.gz StartedAt: 2024-10-17 02:38:21 -0400 (Thu, 17 Oct 2024) EndedAt: 2024-10-17 02:39:17 -0400 (Thu, 17 Oct 2024) EllapsedTime: 55.9 seconds RetCode: 0 Status: OK CheckDir: iSeq.Rcheck Warnings: 0