Package: iSeq Version: 1.56.0 Command: /home/biocbuild/bbs-3.19-bioc/R/bin/R CMD build --keep-empty-dirs --no-resave-data iSeq StartedAt: 2024-10-16 19:08:07 -0400 (Wed, 16 Oct 2024) EndedAt: 2024-10-16 19:08:28 -0400 (Wed, 16 Oct 2024) EllapsedTime: 21.0 seconds RetCode: 0 Status: OK PackageFile: iSeq_1.56.0.tar.gz PackageFileSize: 1.199 MiB