Package: iSeq Version: 1.56.0 Command: /Library/Frameworks/R.framework/Resources/bin/R CMD INSTALL iSeq StartedAt: 2024-10-16 15:05:38 -0400 (Wed, 16 Oct 2024) EndedAt: 2024-10-16 15:05:47 -0400 (Wed, 16 Oct 2024) EllapsedTime: 8.5 seconds RetCode: 0 Status: OK