Package: iSeq Version: 1.56.0 Command: /Library/Frameworks/R.framework/Resources/bin/R CMD build --keep-empty-dirs --no-resave-data iSeq StartedAt: 2024-06-09 17:03:35 -0400 (Sun, 09 Jun 2024) EndedAt: 2024-06-09 17:03:58 -0400 (Sun, 09 Jun 2024) EllapsedTime: 22.6 seconds RetCode: 0 Status: OK PackageFile: iSeq_1.56.0.tar.gz PackageFileSize: 1.324 MiB