Package: iSEEu Version: 1.16.0 Command: /home/biocbuild/bbs-3.19-bioc/R/bin/R CMD check --install=check:iSEEu.install-out.txt --library=/home/biocbuild/bbs-3.19-bioc/R/site-library --timings iSEEu_1.16.0.tar.gz StartedAt: 2024-10-17 01:43:50 -0400 (Thu, 17 Oct 2024) EndedAt: 2024-10-17 01:49:51 -0400 (Thu, 17 Oct 2024) EllapsedTime: 360.8 seconds RetCode: 0 Status: WARNINGS CheckDir: iSEEu.Rcheck Warnings: 1