Package: iSEEu Version: 1.16.0 Command: /Library/Frameworks/R.framework/Resources/bin/R CMD check --install=check:iSEEu.install-out.txt --library=/Library/Frameworks/R.framework/Resources/library --no-vignettes --timings iSEEu_1.16.0.tar.gz StartedAt: 2024-10-17 07:10:59 -0400 (Thu, 17 Oct 2024) EndedAt: 2024-10-17 07:23:19 -0400 (Thu, 17 Oct 2024) EllapsedTime: 739.6 seconds RetCode: 0 Status: WARNINGS CheckDir: iSEEu.Rcheck Warnings: 1