Package: iSEEu Version: 1.16.0 Command: rm -rf iSEEu.buildbin-libdir && mkdir iSEEu.buildbin-libdir && /Users/biocbuild/BBS/utils/build-universal.sh iSEEu_1.16.0.tar.gz /Library/Frameworks/R.framework/Resources/bin/R iSEEu.buildbin-libdir StartedAt: 2024-06-11 11:45:21 -0400 (Tue, 11 Jun 2024) EndedAt: 2024-06-11 11:46:35 -0400 (Tue, 11 Jun 2024) EllapsedTime: 73.9 seconds RetCode: 0 Status: OK PackageFile: iSEEu_1.16.0.tgz PackageFileSize: 1.426 MiB