Package: iSEEu Version: 1.16.0 Command: /Library/Frameworks/R.framework/Resources/bin/R CMD build --keep-empty-dirs --no-resave-data iSEEu StartedAt: 2024-10-17 03:02:17 -0400 (Thu, 17 Oct 2024) EndedAt: 2024-10-17 03:04:44 -0400 (Thu, 17 Oct 2024) EllapsedTime: 146.4 seconds RetCode: 0 Status: OK PackageFile: iSEEu_1.16.0.tar.gz PackageFileSize: 1.62 MiB