Package: iSEEpathways Version: 1.2.0 Command: /home/biocbuild/R/R-beta-2024-04-15_r86425/bin/R CMD build --keep-empty-dirs --no-resave-data iSEEpathways StartedAt: 2024-05-09 01:10:47 -0000 (Thu, 09 May 2024) EndedAt: 2024-05-09 01:14:40 -0000 (Thu, 09 May 2024) EllapsedTime: 233.3 seconds RetCode: 0 Status: OK PackageFile: iSEEpathways_1.2.0.tar.gz PackageFileSize: 2.331 MiB