Package: iSEEindex Version: 1.2.0 Command: /Library/Frameworks/R.framework/Resources/bin/R CMD check --install=check:iSEEindex.install-out.txt --library=/Library/Frameworks/R.framework/Resources/library --no-vignettes --timings iSEEindex_1.2.0.tar.gz StartedAt: 2024-06-10 19:35:36 -0400 (Mon, 10 Jun 2024) EndedAt: 2024-06-10 19:42:43 -0400 (Mon, 10 Jun 2024) EllapsedTime: 427.2 seconds RetCode: 0 Status: OK CheckDir: iSEEindex.Rcheck Warnings: 0