Package: iSEEindex Version: 1.2.0 Command: rm -rf iSEEindex.buildbin-libdir && mkdir iSEEindex.buildbin-libdir && /Users/biocbuild/BBS/utils/build-universal.sh iSEEindex_1.2.0.tar.gz /Library/Frameworks/R.framework/Resources/bin/R iSEEindex.buildbin-libdir StartedAt: 2024-06-11 11:44:46 -0400 (Tue, 11 Jun 2024) EndedAt: 2024-06-11 11:45:57 -0400 (Tue, 11 Jun 2024) EllapsedTime: 71.7 seconds RetCode: 0 Status: OK PackageFile: iSEEindex_1.2.0.tgz PackageFileSize: 1.523 MiB