Package: iSEEhub Version: 1.6.0 Command: rm -rf iSEEhub.buildbin-libdir && mkdir iSEEhub.buildbin-libdir && F:\biocbuild\bbs-3.19-bioc\R\bin\R.exe CMD INSTALL --build --library=iSEEhub.buildbin-libdir iSEEhub_1.6.0.tar.gz StartedAt: 2024-06-27 08:23:49 -0400 (Thu, 27 Jun 2024) EndedAt: 2024-06-27 08:24:54 -0400 (Thu, 27 Jun 2024) EllapsedTime: 64.9 seconds RetCode: 0 Status: OK PackageFile: iSEEhub_1.6.0.zip PackageFileSize: 3.69 MiB