Package: iSEEhub Version: 1.6.0 Command: /home/biocbuild/bbs-3.19-bioc/R/bin/R CMD check --install=check:iSEEhub.install-out.txt --library=/home/biocbuild/bbs-3.19-bioc/R/site-library --timings iSEEhub_1.6.0.tar.gz StartedAt: 2024-10-17 01:42:53 -0400 (Thu, 17 Oct 2024) EndedAt: 2024-10-17 01:47:10 -0400 (Thu, 17 Oct 2024) EllapsedTime: 257.6 seconds RetCode: 0 Status: OK CheckDir: iSEEhub.Rcheck Warnings: 0